BEGIN:VCALENDAR
VERSION:2.0
PRODID:-//Culture Rumba - ECPv6.15.20//NONSGML v1.0//EN
CALSCALE:GREGORIAN
METHOD:PUBLISH
X-WR-CALNAME:Culture Rumba
X-ORIGINAL-URL:https://culture-rumba.com
X-WR-CALDESC:évènements pour Culture Rumba
REFRESH-INTERVAL;VALUE=DURATION:PT1H
X-Robots-Tag:noindex
X-PUBLISHED-TTL:PT1H
BEGIN:VTIMEZONE
TZID:UTC
BEGIN:STANDARD
TZOFFSETFROM:+0000
TZOFFSETTO:+0000
TZNAME:UTC
DTSTART:20220101T000000
END:STANDARD
END:VTIMEZONE
BEGIN:VEVENT
DTSTART;TZID=UTC:20251220T160000
DTEND;TZID=UTC:20251220T203000
DTSTAMP:20260425T164145
CREATED:20251111T135325Z
LAST-MODIFIED:20251111T140344Z
UID:781-1766246400-1766262600@culture-rumba.com
SUMMARY:55 ans du premier spectacle musical africain à l'Olympia
DESCRIPTION:Au programme : \n\n\n\n16h00 : Projection d’un film \n\n\n\n16h30 : \n\n\n\n– Table ronde \n\n\n\n– Moment d’échanges et témoignages en présence de certains artistes ayant participé à cette aventure \n\n\n\n18h00 : Live musical \n\n\n\n \n\n\n\nImportance de l’évènement \n\n\n\n\n\n\n\nLe 12 décembre 1970\, le premier jour du passage de Rochereau  à l’Olympia\, deux grandes réceptions ont été organisées en son honneur\, l’une au « Chevalier du Temple » et l’autre au « Keur samba ». C’était aussi l’occasion pour lui d’exhorter ses frères et sœurs  artistes africains\, à travers ceux qui y étaient présents\, de se réveiller et à prendre d’assaut à qui mieux mieux des studios\, des music-halls et autres amphithéâtres qui leur étaient fermés au nez. C’est ainsi que des célébrités comme Abeti Masikini surnommée « la Tigresse aux griffes d’or « \, Manu Dibango\, Eboa Lotin\, Fela Kuti Ransome viendront  à leur tour se produire dans ce mythique music-hall parisien du boulevard des Capucines. Les jeunes stars montantes comme Salif Keita\, Angélique Kidjo\, Lokua Kanza\, Youssou N’Dour\, Kaja Nin\, Koffi Olomide\, J.B. Mpiana et Papa Wemba suivront. D’autres célèbres salles de Paris ont été prises d’assaut par des artistes africains. Le Zénith a accueilli Papa Wemba\, Tshala Mwana\, Bisso na Bisso. Après Mory Kanté en 1993\, Koffi Olomide a pu réunir près de 15 000 spectateurs au Palais Omnisports de Paris-Bercy\, la plus grande de Paris\, le samedi 19 février 2000. Werrasson avec son orchestre « Wenge Musica\, maison mère » a réussi aussi à la remplir avec plus de 17 000 participants le 16 septembre de la même année. Le Congolais Hervé Gola Bataringe\, connu sous son nom d’artiste Ferre Gola\, le Padre\, né le 3 mars 1976 à Kinshasa dans la commune de Kintambo\, après avoir fait le carton plein au Stade des Martyrs à Kinshasa avec environ 100 000 personnes le 23 juin 2023\, a mis en ébullition les 20 et 21 avril 2024 l’ « Adidas Arena » de Paris dans un concert d’anthologie. \n\n\n\nWendo Kolosoy\, l’un des pères de la musique congolaise moderne a lui aussi fait une tournée triomphale en Europe à la fin de l’année 1999. Ce périple a commencé par le centre Wallonie-Bruxelles de Paris\, du 22 au 24 octobre. Il a aussi participé à l’ouverture du Womex à Berlin les 28 et 29\, du même mois.  Il était à Anvers\, le 2 novembre\,  à Trieste en Italie le 3\, à Berne en Suisse le 4 puis à Biel toujours en Suisse le jour suivant. Sa tournée s’est poursuivie en Belgique. Le 6\, il a joué dans la salle de La Madeleine à Bruxelles\, le 7 au Musing Meeting à Nimègue aux Pays-Bas et le 9\, il était au « World Music Night » à Bonn en Allemagne. \n\n\n\n\n\n\n\n\n\n\n\nPour réserver vos places\, cliquer ici !
URL:https://culture-rumba.com/event/55-ans-du-premier-spectacle-musical-africain-a-lolympia/
LOCATION:Centre Paris Anim’Curial\, 16 rue Colette Magny\, 75019 Paris\, France
ORGANIZER;CN="culture rumba":MAILTO:contact@ausondelarumba.com
END:VEVENT
BEGIN:VEVENT
DTSTART;TZID=UTC:20250627T190000
DTEND;TZID=UTC:20250627T210000
DTSTAMP:20260425T164145
CREATED:20250622T124557Z
LAST-MODIFIED:20250622T133636Z
UID:715-1751050800-1751058000@culture-rumba.com
SUMMARY:Action de sensibilisation à la rumba congolaise
DESCRIPTION:En collaboration avec l’association Culture rumba \n\n\n\nA la médiathèque Annie Ernaux \n\n\n\n125\, avenue de la Division Leclerc \n\n\n\n93430 Villetaneuse \n\n\n\nAu programme : \n\n\n\n\n\n\n\n\n\n\nProjection de « Kin-Malebo danse »\, un flim de Dom Pedro sur la Rumba congolaise des origines à nos jours.\n\n\n\néchanges avec Wuta Mayi\, Dino Vangu et Djeskain Loko Massengo\, trois grandes figures de la rumba.
URL:https://culture-rumba.com/event/action-de-sensibilisation-a-la-rumba-congolaise/
ORGANIZER;CN="Festival Saint-Denis et M%C3%A9tis":MAILTO:reservation.metis@festival-saint-denis.com
END:VEVENT
BEGIN:VEVENT
DTSTART;TZID=UTC:20250531T150000
DTEND;TZID=UTC:20250531T190000
DTSTAMP:20260425T164145
CREATED:20250419T194321Z
LAST-MODIFIED:20250419T194322Z
UID:681-1748703600-1748718000@culture-rumba.com
SUMMARY:Rencontre multiculturelle
DESCRIPTION:Culture Rumba y tiendra un stand.
URL:https://culture-rumba.com/event/rencontre-multiculturelle/
LOCATION:Centre Cyrano\, Place du Général Leclerc\, 95110 Sannois\, France
END:VEVENT
BEGIN:VEVENT
DTSTART;TZID=UTC:20250522T180000
DTEND;TZID=UTC:20250726T220000
DTSTAMP:20260425T164145
CREATED:20250419T201543Z
LAST-MODIFIED:20250419T202441Z
UID:686-1747936800-1753567200@culture-rumba.com
SUMMARY:Festival des Abolitions 2025
DESCRIPTION:Culture Rumba et ses invités présentent\, le samedi 12 juillet 2025 à 19h\, une conférence – débat avec la projection d’un film sur le premier peuple libre de toutes les Amériques et ayant conservé jusqu’à nos jours sa culture africaine. \n\n\n\n« Les rois créoles de la Champeta »\,  de Lucas Silva et Sergio Arria (Sous réserve). Ce court métrage de 30 minutes sera suivi d’un moment d’échanges : \n\n\n\n\nSurvivance de la culture africaine aux Amériques\n\n\n\nMusique: passerelle entre l’Afrique et les Amériques
URL:https://culture-rumba.com/event/festival-des-abolitions-2025/
LOCATION:100 ecs\, 100 rue de Charenton\, 75012 Paris\, France
END:VEVENT
BEGIN:VEVENT
DTSTART;TZID=UTC:20250420T110000
DTEND;TZID=UTC:20250420T183000
DTSTAMP:20260425T164145
CREATED:20250417T222612Z
LAST-MODIFIED:20250417T222846Z
UID:660-1745146800-1745173800@culture-rumba.com
SUMMARY:L'héritage et l'impact mondial de la rumba
DESCRIPTION:
URL:https://culture-rumba.com/event/lheritage-et-limpact-mondial-de-la-rumba/
LOCATION:La Communale Saint-Ouen\, 10 rue de l'Hippodôme\, 93400 Saint-Ouen-sur-Seine\, France
END:VEVENT
BEGIN:VEVENT
DTSTART;TZID=UTC:20241024T170000
DTEND;TZID=UTC:20241024T213000
DTSTAMP:20260425T164145
CREATED:20241011T161657Z
LAST-MODIFIED:20241011T162028Z
UID:529-1729789200-1729805400@culture-rumba.com
SUMMARY:Ali - Foreman et le Festival "Zaïre 74"
DESCRIPTION:Que retenir 50 ans après ? \n\n\n\n\n\n\n\n\n\nLa consommation est payante
URL:https://culture-rumba.com/event/ali-foreman-et-le-festival-zaire-74/
ORGANIZER;CN="culture rumba":MAILTO:contact@ausondelarumba.com
END:VEVENT
BEGIN:VEVENT
DTSTART;TZID=UTC:20240330T133000
DTEND;TZID=UTC:20240330T180000
DTSTAMP:20260425T164145
CREATED:20240222T220905Z
LAST-MODIFIED:20240222T223401Z
UID:426-1711805400-1711821600@culture-rumba.com
SUMMARY:La rumba congolaise :
DESCRIPTION:Des pionniers à la reconnaissance mondiale. \n\n\n\n\n\n\n\n\n\nAu programme: \n\n\n\n\nProjection d’un film sur la rumba\n\n\n\nDes tables rondes\n\n\n\nPrestation musicale
URL:https://culture-rumba.com/event/la-rumba-congolaise-des-pionniers-a-la-reconnaissance-mondiale/
END:VEVENT
BEGIN:VEVENT
DTSTART;TZID=UTC:20240323T100000
DTEND;TZID=UTC:20240324T180000
DTSTAMP:20260425T164145
CREATED:20231111T133800Z
LAST-MODIFIED:20240207T001250Z
UID:325-1711188000-1711303200@culture-rumba.com
SUMMARY:Nous serons au Week-end de Francophonie
DESCRIPTION:Culture rumba\, notre association\, est invitée à la 5ème édition du week-end de Francophonie à Yèbles (77390) en mars 2024. Nous allons y présenter: \n\n\n\n\nNos publications (livres) et C.D.\n\n\n\nProjection d’un film sur la rumba\n\n\n\nInitiations à la danse et la guitare dans l’univers de la rumba.
URL:https://culture-rumba.com/event/nous-serons-au-week-end-de-francophonie/
END:VEVENT
BEGIN:VEVENT
DTSTART;TZID=UTC:20231007T080000
DTEND;TZID=UTC:20231008T170000
DTSTAMP:20260425T164145
CREATED:20231003T212235Z
LAST-MODIFIED:20231003T213431Z
UID:300-1696665600-1696784400@culture-rumba.com
SUMMARY:Congo na Paris 6ème édition
DESCRIPTION:Certains membres de Culture rumba seront bien présents. Vous pouvez nous y rencontrer et échanger.
URL:https://culture-rumba.com/event/congo-na-paris-6eme-edition/
LOCATION:Espace Charenton\, 327 rue de Charenton\, Paris\, France
END:VEVENT
BEGIN:VEVENT
DTSTART;TZID=UTC:20230527T150000
DTEND;TZID=UTC:20230527T183000
DTSTAMP:20260425T164145
CREATED:20230424T111951Z
LAST-MODIFIED:20230514T123014Z
UID:193-1685199600-1685212200@culture-rumba.com
SUMMARY:CONFERENCE : "LA RUMBA ET SES INFLUENCES"
DESCRIPTION:Émission « Le Miroir » du lundi 8 mai 2023 avec\, comme invitée\, la Présidente du Comité de jumelage Reims-Brazzaville. \nhttps://culture-rumba.com/wp-content/uploads/2023/05/Le-Miroir-8-mai-2023-Reims.mp3
URL:https://culture-rumba.com/event/conference-la-rumba-et-ses-influences/
LOCATION:Médiathèque Jean FALALA\, 2 RUE DES FUSELIERS\, REIMS\, 51100
ATTACH;FMTTYPE=image/jpeg:https://culture-rumba.com/wp-content/uploads/2023/04/CONFERENCE-SUR-LA-RUMBA-1-page-001.jpg
END:VEVENT
BEGIN:VEVENT
DTSTART;TZID=UTC:20230517T193000
DTEND;TZID=UTC:20230517T220000
DTSTAMP:20260425T164145
CREATED:20230430T234530Z
LAST-MODIFIED:20230501T214207Z
UID:241-1684351800-1684360800@culture-rumba.com
SUMMARY:Conférence - débat : "Histoires coloniales"
DESCRIPTION:FDA2023_DOSSIER_PRESSE_PARIS_BOBIGNY_1504 \n \nAvec José Nzolani\, Masengo Ma Mbongolo\, Julie Lombe\, Frédéric Régent et Pierre Vanderstappen. \nLe thème de l’esclavage\, contrairement à ce que l’on pourrait penser\, ne se réduit pas à une question de couleur de peau\, c’est un enjeu qui pose en creux celui fondamental des libertés et des émancipations des liens asservissant\, un enjeu universel. Au rythme d’une biennale\, le Festival des Abolitions a pour objectif d’être un rendez-vous culturel et d’échange mêlant à la fois les arts visuels et vivants\, à la politique et la philosophie. Articulé autour de programmations artistiques\, de rencontres et débats autour des thèmes de l’abolition de l’esclavage et de la réconciliation. Il se veut un moment phare dédié aux paroles et actes engagés .Pour ce faire\, nous visons un public le plus large possible\, où la diaspora africaine\, Français d’outre-mer\, Parisien.ne.s\, Francilien.ne.s de tous âges sont invité.e.s à questionner\, sonder cette sombre histoire et rendre hommage aux victimes de la traite transatlantique. \nLa gratuité de l’évènement constitue un élément important de cette biennale qui ambitionne de toucher des audiences larges. \nPour écouter l’émission « Le Miroir » sur Fréquence Paris Plurielle (106.3 FM) avec comme invité Sylvio Meranville\,l’organisateur\, cliquer ici. \nVoici le lien d’inscriptions pour la conférence et débat du Mercredi 17 mai 2023\nhttps://formulaires.paris.fr/formulaires/2226?deco=brand\nFDA2023_DOSSIER_PRESSE_PARIS_BOBIGNY_1504
URL:https://culture-rumba.com/event/conference-debat-histoires-coloniales/
LOCATION:Mairie XIIème\, 130\, avenue Daumesnil\, Paris\, Paris\, 75012\, France
ATTACH;FMTTYPE=image/jpeg:https://culture-rumba.com/wp-content/uploads/2023/04/IMG-20230320-WA0129_01.jpg
END:VEVENT
END:VCALENDAR